Workbook

Sheet دفتر الزبائن
A1: دفتر الزبائن
A2: أضف الاسم والهاتف في الخانات البيضاء. الأرصدة تُحسب وحدها: الرصيد = أعطيت − استلمت.
C3: الإجمالي | D3: =SUM(D5:D104) | E3: =SUM(E5:E104) | F3: =SUM(F5:F104)
A4: # | B4: اسم الزبون | C4: الهاتف | D4: إجمالي أعطيت | E4: إجمالي استلمت | F4: الرصيد | G4: الحالة
A5: 1 | D5: =IF($B5="","",SUMIFS('الحركات'!$C$5:$C$504,'الحركات'!$B$5:$B$504,$B5)) | E5: =IF($B5="","",SUMIFS('الحركات'!$D$5:$D$504,'الحركات'!$B$5:$B$504,$B5)) | F5: =IF($B5="","",D5-E5) | G5: =IF($B5="","",IF(ROUND(F5,2)>0,"عليه لك",IF(ROUND(F5,2)<0,"له عندك","مسدد")))
A6: 2 | D6: =IF($B6="","",SUMIFS('الحركات'!$C$5:$C$504,'الحركات'!$B$5:$B$504,$B6)) | E6: =IF($B6="","",SUMIFS('الحركات'!$D$5:$D$504,'الحركات'!$B$5:$B$504,$B6)) | F6: =IF($B6="","",D6-E6) | G6: =IF($B6="","",IF(ROUND(F6,2)>0,"عليه لك",IF(ROUND(F6,2)<0,"له عندك","مسدد")))
A7: 3 | D7: =IF($B7="","",SUMIFS('الحركات'!$C$5:$C$504,'الحركات'!$B$5:$B$504,$B7)) | E7: =IF($B7="","",SUMIFS('الحركات'!$D$5:$D$504,'الحركات'!$B$5:$B$504,$B7)) | F7: =IF($B7="","",D7-E7) | G7: =IF($B7="","",IF(ROUND(F7,2)>0,"عليه لك",IF(ROUND(F7,2)<0,"له عندك","مسدد")))
A8: 4 | D8: =IF($B8="","",SUMIFS('الحركات'!$C$5:$C$504,'الحركات'!$B$5:$B$504,$B8)) | E8: =IF($B8="","",SUMIFS('الحركات'!$D$5:$D$504,'الحركات'!$B$5:$B$504,$B8)) | F8: =IF($B8="","",D8-E8) | G8: =IF($B8="","",IF(ROUND(F8,2)>0,"عليه لك",IF(ROUND(F8,2)<0,"له عندك","مسدد")))
A9: 5 | D9: =IF($B9="","",SUMIFS('الحركات'!$C$5:$C$504,'الحركات'!$B$5:$B$504,$B9)) | E9: =IF($B9="","",SUMIFS('الحركات'!$D$5:$D$504,'الحركات'!$B$5:$B$504,$B9)) | F9: =IF($B9="","",D9-E9) | G9: =IF($B9="","",IF(ROUND(F9,2)>0,"عليه لك",IF(ROUND(F9,2)<0,"له عندك","مسدد")))
A10: 6 | D10: =IF($B10="","",SUMIFS('الحركات'!$C$5:$C$504,'الحركات'!$B$5:$B$504,$B10)) | E10: =IF($B10="","",SUMIFS('الحركات'!$D$5:$D$504,'الحركات'!$B$5:$B$504,$B10)) | F10: =IF($B10="","",D10-E10) | G10: =IF($B10="","",IF(ROUND(F10,2)>0,"عليه لك",IF(ROUND(F10,2)<0,"له عندك","مسدد")))
A11: 7 | D11: =IF($B11="","",SUMIFS('الحركات'!$C$5:$C$504,'الحركات'!$B$5:$B$504,$B11)) | E11: =IF($B11="","",SUMIFS('الحركات'!$D$5:$D$504,'الحركات'!$B$5:$B$504,$B11)) | F11: =IF($B11="","",D11-E11) | G11: =IF($B11="","",IF(ROUND(F11,2)>0,"عليه لك",IF(ROUND(F11,2)<0,"له عندك","مسدد")))
A12: 8 | D12: =IF($B12="","",SUMIFS('الحركات'!$C$5:$C$504,'الحركات'!$B$5:$B$504,$B12)) | E12: =IF($B12="","",SUMIFS('الحركات'!$D$5:$D$504,'الحركات'!$B$5:$B$504,$B12)) | F12: =IF($B12="","",D12-E12) | G12: =IF($B12="","",IF(ROUND(F12,2)>0,"عليه لك",IF(ROUND(F12,2)<0,"له عندك","مسدد")))
A13: 9 | D13: =IF($B13="","",SUMIFS('الحركات'!$C$5:$C$504,'الحركات'!$B$5:$B$504,$B13)) | E13: =IF($B13="","",SUMIFS('الحركات'!$D$5:$D$504,'الحركات'!$B$5:$B$504,$B13)) | F13: =IF($B13="","",D13-E13) | G13: =IF($B13="","",IF(ROUND(F13,2)>0,"عليه لك",IF(ROUND(F13,2)<0,"له عندك","مسدد")))
A14: 10 | D14: =IF($B14="","",SUMIFS('الحركات'!$C$5:$C$504,'الحركات'!$B$5:$B$504,$B14)) | E14: =IF($B14="","",SUMIFS('الحركات'!$D$5:$D$504,'الحركات'!$B$5:$B$504,$B14)) | F14: =IF($B14="","",D14-E14) | G14: =IF($B14="","",IF(ROUND(F14,2)>0,"عليه لك",IF(ROUND(F14,2)<0,"له عندك","مسدد")))
A15: 11 | D15: =IF($B15="","",SUMIFS('الحركات'!$C$5:$C$504,'الحركات'!$B$5:$B$504,$B15)) | E15: =IF($B15="","",SUMIFS('الحركات'!$D$5:$D$504,'الحركات'!$B$5:$B$504,$B15)) | F15: =IF($B15="","",D15-E15) | G15: =IF($B15="","",IF(ROUND(F15,2)>0,"عليه لك",IF(ROUND(F15,2)<0,"له عندك","مسدد")))
A16: 12 | D16: =IF($B16="","",SUMIFS('الحركات'!$C$5:$C$504,'الحركات'!$B$5:$B$504,$B16)) | E16: =IF($B16="","",SUMIFS('الحركات'!$D$5:$D$504,'الحركات'!$B$5:$B$504,$B16)) | F16: =IF($B16="","",D16-E16) | G16: =IF($B16="","",IF(ROUND(F16,2)>0,"عليه لك",IF(ROUND(F16,2)<0,"له عندك","مسدد")))
... A104: 100 | D104: =IF($B104="","",SUMIFS('الحركات'!$C$5:$C$504,'الحركات'!$B$5:$B$504,$B104)) | E104: =IF($B104="","",SUMIFS('الحركات'!$D$5:$D$504,'الحركات'!$B$5:$B$504,$B104)) | F104: =IF($B104="","",D104-E104) | G104: =IF($B104="","",IF(ROUND(F104,2)>0,"عليه لك",IF(ROUND(F104,2)<0,"له عندك","مسدد")))
A106: من ميزانيتي – mizaniti.app

Sheet الحركات
A1: حركات الزبائن
A2: سطر لكل حركة: أعطيت = بضاعة أو مال بالآجل، استلمت = سداد. اكتب في عمود واحد فقط.
A3: من ميزانيتي – mizaniti.app
A4: التاريخ | B4: الاسم | C4: أعطيت | D4: استلمت | E4: ملاحظة | F4: الرصيد التراكمي | G4: ترتيب
F5: =IF($B5="","",SUMIFS(C$5:C5,$B$5:$B5,$B5)-SUMIFS(D$5:D5,$B$5:$B5,$B5)) | G5: =IF(AND($B5<>"",$B5='كشف عميل'!$B$5),COUNTIF($B$5:$B5,$B5),"")
F6: =IF($B6="","",SUMIFS(C$5:C6,$B$5:$B6,$B6)-SUMIFS(D$5:D6,$B$5:$B6,$B6)) | G6: =IF(AND($B6<>"",$B6='كشف عميل'!$B$5),COUNTIF($B$5:$B6,$B6),"")
F7: =IF($B7="","",SUMIFS(C$5:C7,$B$5:$B7,$B7)-SUMIFS(D$5:D7,$B$5:$B7,$B7)) | G7: =IF(AND($B7<>"",$B7='كشف عميل'!$B$5),COUNTIF($B$5:$B7,$B7),"")
F8: =IF($B8="","",SUMIFS(C$5:C8,$B$5:$B8,$B8)-SUMIFS(D$5:D8,$B$5:$B8,$B8)) | G8: =IF(AND($B8<>"",$B8='كشف عميل'!$B$5),COUNTIF($B$5:$B8,$B8),"")
F9: =IF($B9="","",SUMIFS(C$5:C9,$B$5:$B9,$B9)-SUMIFS(D$5:D9,$B$5:$B9,$B9)) | G9: =IF(AND($B9<>"",$B9='كشف عميل'!$B$5),COUNTIF($B$5:$B9,$B9),"")
F10: =IF($B10="","",SUMIFS(C$5:C10,$B$5:$B10,$B10)-SUMIFS(D$5:D10,$B$5:$B10,$B10)) | G10: =IF(AND($B10<>"",$B10='كشف عميل'!$B$5),COUNTIF($B$5:$B10,$B10),"")
F11: =IF($B11="","",SUMIFS(C$5:C11,$B$5:$B11,$B11)-SUMIFS(D$5:D11,$B$5:$B11,$B11)) | G11: =IF(AND($B11<>"",$B11='كشف عميل'!$B$5),COUNTIF($B$5:$B11,$B11),"")
F12: =IF($B12="","",SUMIFS(C$5:C12,$B$5:$B12,$B12)-SUMIFS(D$5:D12,$B$5:$B12,$B12)) | G12: =IF(AND($B12<>"",$B12='كشف عميل'!$B$5),COUNTIF($B$5:$B12,$B12),"")
F13: =IF($B13="","",SUMIFS(C$5:C13,$B$5:$B13,$B13)-SUMIFS(D$5:D13,$B$5:$B13,$B13)) | G13: =IF(AND($B13<>"",$B13='كشف عميل'!$B$5),COUNTIF($B$5:$B13,$B13),"")
F14: =IF($B14="","",SUMIFS(C$5:C14,$B$5:$B14,$B14)-SUMIFS(D$5:D14,$B$5:$B14,$B14)) | G14: =IF(AND($B14<>"",$B14='كشف عميل'!$B$5),COUNTIF($B$5:$B14,$B14),"")
F15: =IF($B15="","",SUMIFS(C$5:C15,$B$5:$B15,$B15)-SUMIFS(D$5:D15,$B$5:$B15,$B15)) | G15: =IF(AND($B15<>"",$B15='كشف عميل'!$B$5),COUNTIF($B$5:$B15,$B15),"")
F16: =IF($B16="","",SUMIFS(C$5:C16,$B$5:$B16,$B16)-SUMIFS(D$5:D16,$B$5:$B16,$B16)) | G16: =IF(AND($B16<>"",$B16='كشف عميل'!$B$5),COUNTIF($B$5:$B16,$B16),"")
... F504: =IF($B504="","",SUMIFS(C$5:C504,$B$5:$B504,$B504)-SUMIFS(D$5:D504,$B$5:$B504,$B504)) | G504: =IF(AND($B504<>"",$B504='كشف عميل'!$B$5),COUNTIF($B$5:$B504,$B504),"")

Sheet كشف عميل
A1: كشف حساب عميل
A2: اختر اسم الزبون من القائمة ليظهر كشفه كاملًا، ثم اطبعه أو احفظه PDF.
A3: من ميزانيتي – mizaniti.app
A5: الزبون | E5: تاريخ الكشف | F5: =TODAY()
A6: الرصيد الحالي | B6: =IF($B$5="","",SUMIFS('الحركات'!$C$5:$C$504,'الحركات'!$B$5:$B$504,$B$5)-SUMIFS('الحركات'!$D$5:$D$504,'الحركات'!$B$5:$B$504,$B$5)) | C6: =IF($B$5="","",IF(ROUND($B$6,2)>0,"عليه لك",IF(ROUND($B$6,2)<0,"له عندك","مسدد")))
A7: # | B7: التاريخ | C7: أعطيت | D7: استلمت | E7: الرصيد | F7: ملاحظة
A8: =IF((ROW()-7)<=MAX('الحركات'!$G$5:$G$504),(ROW()-7),"") | B8: =IF($A8="","",INDEX('الحركات'!$A$5:$A$504,MATCH($A8,'الحركات'!$G$5:$G$504,0))) | C8: =IF($A8="","",IF(INDEX('الحركات'!$C$5:$C$504,MATCH($A8,'الحركات'!$G$5:$G$504,0))=0,"",INDEX('الحركات'!$C$5:$C$504,MATCH($A8,'الحركات'!$G$5:$G$504,0)))) | D8: =IF($A8="","",IF(INDEX('الحركات'!$D$5:$D$504,MATCH($A8,'الحركات'!$G$5:$G$504,0))=0,"",INDEX('الحركات'!$D$5:$D$504,MATCH($A8,'الحركات'!$G$5:$G$504,0)))) | E8: =IF($A8="","",INDEX('الحركات'!$F$5:$F$504,MATCH($A8,'الحركات'!$G$5:$G$504,0))) | F8: =IF($A8="","",IF(INDEX('الحركات'!$E$5:$E$504,MATCH($A8,'الحركات'!$G$5:$G$504,0))=0,"",INDEX('الحركات'!$E$5:$E$504,MATCH($A8,'الحركات'!$G$5:$G$504,0))))
A9: =IF((ROW()-7)<=MAX('الحركات'!$G$5:$G$504),(ROW()-7),"") | B9: =IF($A9="","",INDEX('الحركات'!$A$5:$A$504,MATCH($A9,'الحركات'!$G$5:$G$504,0))) | C9: =IF($A9="","",IF(INDEX('الحركات'!$C$5:$C$504,MATCH($A9,'الحركات'!$G$5:$G$504,0))=0,"",INDEX('الحركات'!$C$5:$C$504,MATCH($A9,'الحركات'!$G$5:$G$504,0)))) | D9: =IF($A9="","",IF(INDEX('الحركات'!$D$5:$D$504,MATCH($A9,'الحركات'!$G$5:$G$504,0))=0,"",INDEX('الحركات'!$D$5:$D$504,MATCH($A9,'الحركات'!$G$5:$G$504,0)))) | E9: =IF($A9="","",INDEX('الحركات'!$F$5:$F$504,MATCH($A9,'الحركات'!$G$5:$G$504,0))) | F9: =IF($A9="","",IF(INDEX('الحركات'!$E$5:$E$504,MATCH($A9,'الحركات'!$G$5:$G$504,0))=0,"",INDEX('الحركات'!$E$5:$E$504,MATCH($A9,'الحركات'!$G$5:$G$504,0))))
A10: =IF((ROW()-7)<=MAX('الحركات'!$G$5:$G$504),(ROW()-7),"") | B10: =IF($A10="","",INDEX('الحركات'!$A$5:$A$504,MATCH($A10,'الحركات'!$G$5:$G$504,0))) | C10: =IF($A10="","",IF(INDEX('الحركات'!$C$5:$C$504,MATCH($A10,'الحركات'!$G$5:$G$504,0))=0,"",INDEX('الحركات'!$C$5:$C$504,MATCH($A10,'الحركات'!$G$5:$G$504,0)))) | D10: =IF($A10="","",IF(INDEX('الحركات'!$D$5:$D$504,MATCH($A10,'الحركات'!$G$5:$G$504,0))=0,"",INDEX('الحركات'!$D$5:$D$504,MATCH($A10,'الحركات'!$G$5:$G$504,0)))) | E10: =IF($A10="","",INDEX('الحركات'!$F$5:$F$504,MATCH($A10,'الحركات'!$G$5:$G$504,0))) | F10: =IF($A10="","",IF(INDEX('الحركات'!$E$5:$E$504,MATCH($A10,'الحركات'!$G$5:$G$504,0))=0,"",INDEX('الحركات'!$E$5:$E$504,MATCH($A10,'الحركات'!$G$5:$G$504,0))))
A11: =IF((ROW()-7)<=MAX('الحركات'!$G$5:$G$504),(ROW()-7),"") | B11: =IF($A11="","",INDEX('الحركات'!$A$5:$A$504,MATCH($A11,'الحركات'!$G$5:$G$504,0))) | C11: =IF($A11="","",IF(INDEX('الحركات'!$C$5:$C$504,MATCH($A11,'الحركات'!$G$5:$G$504,0))=0,"",INDEX('الحركات'!$C$5:$C$504,MATCH($A11,'الحركات'!$G$5:$G$504,0)))) | D11: =IF($A11="","",IF(INDEX('الحركات'!$D$5:$D$504,MATCH($A11,'الحركات'!$G$5:$G$504,0))=0,"",INDEX('الحركات'!$D$5:$D$504,MATCH($A11,'الحركات'!$G$5:$G$504,0)))) | E11: =IF($A11="","",INDEX('الحركات'!$F$5:$F$504,MATCH($A11,'الحركات'!$G$5:$G$504,0))) | F11: =IF($A11="","",IF(INDEX('الحركات'!$E$5:$E$504,MATCH($A11,'الحركات'!$G$5:$G$504,0))=0,"",INDEX('الحركات'!$E$5:$E$504,MATCH($A11,'الحركات'!$G$5:$G$504,0))))
A12: =IF((ROW()-7)<=MAX('الحركات'!$G$5:$G$504),(ROW()-7),"") | B12: =IF($A12="","",INDEX('الحركات'!$A$5:$A$504,MATCH($A12,'الحركات'!$G$5:$G$504,0))) | C12: =IF($A12="","",IF(INDEX('الحركات'!$C$5:$C$504,MATCH($A12,'الحركات'!$G$5:$G$504,0))=0,"",INDEX('الحركات'!$C$5:$C$504,MATCH($A12,'الحركات'!$G$5:$G$504,0)))) | D12: =IF($A12="","",IF(INDEX('الحركات'!$D$5:$D$504,MATCH($A12,'الحركات'!$G$5:$G$504,0))=0,"",INDEX('الحركات'!$D$5:$D$504,MATCH($A12,'الحركات'!$G$5:$G$504,0)))) | E12: =IF($A12="","",INDEX('الحركات'!$F$5:$F$504,MATCH($A12,'الحركات'!$G$5:$G$504,0))) | F12: =IF($A12="","",IF(INDEX('الحركات'!$E$5:$E$504,MATCH($A12,'الحركات'!$G$5:$G$504,0))=0,"",INDEX('الحركات'!$E$5:$E$504,MATCH($A12,'الحركات'!$G$5:$G$504,0))))
A13: =IF((ROW()-7)<=MAX('الحركات'!$G$5:$G$504),(ROW()-7),"") | B13: =IF($A13="","",INDEX('الحركات'!$A$5:$A$504,MATCH($A13,'الحركات'!$G$5:$G$504,0))) | C13: =IF($A13="","",IF(INDEX('الحركات'!$C$5:$C$504,MATCH($A13,'الحركات'!$G$5:$G$504,0))=0,"",INDEX('الحركات'!$C$5:$C$504,MATCH($A13,'الحركات'!$G$5:$G$504,0)))) | D13: =IF($A13="","",IF(INDEX('الحركات'!$D$5:$D$504,MATCH($A13,'الحركات'!$G$5:$G$504,0))=0,"",INDEX('الحركات'!$D$5:$D$504,MATCH($A13,'الحركات'!$G$5:$G$504,0)))) | E13: =IF($A13="","",INDEX('الحركات'!$F$5:$F$504,MATCH($A13,'الحركات'!$G$5:$G$504,0))) | F13: =IF($A13="","",IF(INDEX('الحركات'!$E$5:$E$504,MATCH($A13,'الحركات'!$G$5:$G$504,0))=0,"",INDEX('الحركات'!$E$5:$E$504,MATCH($A13,'الحركات'!$G$5:$G$504,0))))
A14: =IF((ROW()-7)<=MAX('الحركات'!$G$5:$G$504),(ROW()-7),"") | B14: =IF($A14="","",INDEX('الحركات'!$A$5:$A$504,MATCH($A14,'الحركات'!$G$5:$G$504,0))) | C14: =IF($A14="","",IF(INDEX('الحركات'!$C$5:$C$504,MATCH($A14,'الحركات'!$G$5:$G$504,0))=0,"",INDEX('الحركات'!$C$5:$C$504,MATCH($A14,'الحركات'!$G$5:$G$504,0)))) | D14: =IF($A14="","",IF(INDEX('الحركات'!$D$5:$D$504,MATCH($A14,'الحركات'!$G$5:$G$504,0))=0,"",INDEX('الحركات'!$D$5:$D$504,MATCH($A14,'الحركات'!$G$5:$G$504,0)))) | E14: =IF($A14="","",INDEX('الحركات'!$F$5:$F$504,MATCH($A14,'الحركات'!$G$5:$G$504,0))) | F14: =IF($A14="","",IF(INDEX('الحركات'!$E$5:$E$504,MATCH($A14,'الحركات'!$G$5:$G$504,0))=0,"",INDEX('الحركات'!$E$5:$E$504,MATCH($A14,'الحركات'!$G$5:$G$504,0))))
A15: =IF((ROW()-7)<=MAX('الحركات'!$G$5:$G$504),(ROW()-7),"") | B15: =IF($A15="","",INDEX('الحركات'!$A$5:$A$504,MATCH($A15,'الحركات'!$G$5:$G$504,0))) | C15: =IF($A15="","",IF(INDEX('الحركات'!$C$5:$C$504,MATCH($A15,'الحركات'!$G$5:$G$504,0))=0,"",INDEX('الحركات'!$C$5:$C$504,MATCH($A15,'الحركات'!$G$5:$G$504,0)))) | D15: =IF($A15="","",IF(INDEX('الحركات'!$D$5:$D$504,MATCH($A15,'الحركات'!$G$5:$G$504,0))=0,"",INDEX('الحركات'!$D$5:$D$504,MATCH($A15,'الحركات'!$G$5:$G$504,0)))) | E15: =IF($A15="","",INDEX('الحركات'!$F$5:$F$504,MATCH($A15,'الحركات'!$G$5:$G$504,0))) | F15: =IF($A15="","",IF(INDEX('الحركات'!$E$5:$E$504,MATCH($A15,'الحركات'!$G$5:$G$504,0))=0,"",INDEX('الحركات'!$E$5:$E$504,MATCH($A15,'الحركات'!$G$5:$G$504,0))))
A16: =IF((ROW()-7)<=MAX('الحركات'!$G$5:$G$504),(ROW()-7),"") | B16: =IF($A16="","",INDEX('الحركات'!$A$5:$A$504,MATCH($A16,'الحركات'!$G$5:$G$504,0))) | C16: =IF($A16="","",IF(INDEX('الحركات'!$C$5:$C$504,MATCH($A16,'الحركات'!$G$5:$G$504,0))=0,"",INDEX('الحركات'!$C$5:$C$504,MATCH($A16,'الحركات'!$G$5:$G$504,0)))) | D16: =IF($A16="","",IF(INDEX('الحركات'!$D$5:$D$504,MATCH($A16,'الحركات'!$G$5:$G$504,0))=0,"",INDEX('الحركات'!$D$5:$D$504,MATCH($A16,'الحركات'!$G$5:$G$504,0)))) | E16: =IF($A16="","",INDEX('الحركات'!$F$5:$F$504,MATCH($A16,'الحركات'!$G$5:$G$504,0))) | F16: =IF($A16="","",IF(INDEX('الحركات'!$E$5:$E$504,MATCH($A16,'الحركات'!$G$5:$G$504,0))=0,"",INDEX('الحركات'!$E$5:$E$504,MATCH($A16,'الحركات'!$G$5:$G$504,0))))
A17: =IF((ROW()-7)<=MAX('الحركات'!$G$5:$G$504),(ROW()-7),"") | B17: =IF($A17="","",INDEX('الحركات'!$A$5:$A$504,MATCH($A17,'الحركات'!$G$5:$G$504,0))) | C17: =IF($A17="","",IF(INDEX('الحركات'!$C$5:$C$504,MATCH($A17,'الحركات'!$G$5:$G$504,0))=0,"",INDEX('الحركات'!$C$5:$C$504,MATCH($A17,'الحركات'!$G$5:$G$504,0)))) | D17: =IF($A17="","",IF(INDEX('الحركات'!$D$5:$D$504,MATCH($A17,'الحركات'!$G$5:$G$504,0))=0,"",INDEX('الحركات'!$D$5:$D$504,MATCH($A17,'الحركات'!$G$5:$G$504,0)))) | E17: =IF($A17="","",INDEX('الحركات'!$F$5:$F$504,MATCH($A17,'الحركات'!$G$5:$G$504,0))) | F17: =IF($A17="","",IF(INDEX('الحركات'!$E$5:$E$504,MATCH($A17,'الحركات'!$G$5:$G$504,0))=0,"",INDEX('الحركات'!$E$5:$E$504,MATCH($A17,'الحركات'!$G$5:$G$504,0))))
A18: =IF((ROW()-7)<=MAX('الحركات'!$G$5:$G$504),(ROW()-7),"") | B18: =IF($A18="","",INDEX('الحركات'!$A$5:$A$504,MATCH($A18,'الحركات'!$G$5:$G$504,0))) | C18: =IF($A18="","",IF(INDEX('الحركات'!$C$5:$C$504,MATCH($A18,'الحركات'!$G$5:$G$504,0))=0,"",INDEX('الحركات'!$C$5:$C$504,MATCH($A18,'الحركات'!$G$5:$G$504,0)))) | D18: =IF($A18="","",IF(INDEX('الحركات'!$D$5:$D$504,MATCH($A18,'الحركات'!$G$5:$G$504,0))=0,"",INDEX('الحركات'!$D$5:$D$504,MATCH($A18,'الحركات'!$G$5:$G$504,0)))) | E18: =IF($A18="","",INDEX('الحركات'!$F$5:$F$504,MATCH($A18,'الحركات'!$G$5:$G$504,0))) | F18: =IF($A18="","",IF(INDEX('الحركات'!$E$5:$E$504,MATCH($A18,'الحركات'!$G$5:$G$504,0))=0,"",INDEX('الحركات'!$E$5:$E$504,MATCH($A18,'الحركات'!$G$5:$G$504,0))))
A19: =IF((ROW()-7)<=MAX('الحركات'!$G$5:$G$504),(ROW()-7),"") | B19: =IF($A19="","",INDEX('الحركات'!$A$5:$A$504,MATCH($A19,'الحركات'!$G$5:$G$504,0))) | C19: =IF($A19="","",IF(INDEX('الحركات'!$C$5:$C$504,MATCH($A19,'الحركات'!$G$5:$G$504,0))=0,"",INDEX('الحركات'!$C$5:$C$504,MATCH($A19,'الحركات'!$G$5:$G$504,0)))) | D19: =IF($A19="","",IF(INDEX('الحركات'!$D$5:$D$504,MATCH($A19,'الحركات'!$G$5:$G$504,0))=0,"",INDEX('الحركات'!$D$5:$D$504,MATCH($A19,'الحركات'!$G$5:$G$504,0)))) | E19: =IF($A19="","",INDEX('الحركات'!$F$5:$F$504,MATCH($A19,'الحركات'!$G$5:$G$504,0))) | F19: =IF($A19="","",IF(INDEX('الحركات'!$E$5:$E$504,MATCH($A19,'الحركات'!$G$5:$G$504,0))=0,"",INDEX('الحركات'!$E$5:$E$504,MATCH($A19,'الحركات'!$G$5:$G$504,0))))
... A107: =IF((ROW()-7)<=MAX('الحركات'!$G$5:$G$504),(ROW()-7),"") | B107: =IF($A107="","",INDEX('الحركات'!$A$5:$A$504,MATCH($A107,'الحركات'!$G$5:$G$504,0))) | C107: =IF($A107="","",IF(INDEX('الحركات'!$C$5:$C$504,MATCH($A107,'الحركات'!$G$5:$G$504,0))=0,"",INDEX('الحركات'!$C$5:$C$504,MATCH($A107,'الحركات'!$G$5:$G$504,0)))) | D107: =IF($A107="","",IF(INDEX('الحركات'!$D$5:$D$504,MATCH($A107,'الحركات'!$G$5:$G$504,0))=0,"",INDEX('الحركات'!$D$5:$D$504,MATCH($A107,'الحركات'!$G$5:$G$504,0)))) | E107: =IF($A107="","",INDEX('الحركات'!$F$5:$F$504,MATCH($A107,'الحركات'!$G$5:$G$504,0))) | F107: =IF($A107="","",IF(INDEX('الحركات'!$E$5:$E$504,MATCH($A107,'الحركات'!$G$5:$G$504,0))=0,"",INDEX('الحركات'!$E$5:$E$504,MATCH($A107,'الحركات'!$G$5:$G$504,0))))

Sheet الموردون
A1: الموردون
A2: اسم المورد وهاتفه هنا. الرصيد = اشتريت بالآجل − دفعت.
C3: الإجمالي | D3: =SUM(D5:D104) | E3: =SUM(E5:E104) | F3: =SUM(F5:F104)
A4: # | B4: اسم المورد | C4: الهاتف | D4: إجمالي اشتريت بالآجل | E4: إجمالي دفعت | F4: الرصيد | G4: الحالة
A5: 1 | D5: =IF($B5="","",SUMIFS('حركات الموردين'!$C$5:$C$504,'حركات الموردين'!$B$5:$B$504,$B5)) | E5: =IF($B5="","",SUMIFS('حركات الموردين'!$D$5:$D$504,'حركات الموردين'!$B$5:$B$504,$B5)) | F5: =IF($B5="","",D5-E5) | G5: =IF($B5="","",IF(ROUND(F5,2)>0,"عليك له",IF(ROUND(F5,2)<0,"له عندك","مسدد")))
A6: 2 | D6: =IF($B6="","",SUMIFS('حركات الموردين'!$C$5:$C$504,'حركات الموردين'!$B$5:$B$504,$B6)) | E6: =IF($B6="","",SUMIFS('حركات الموردين'!$D$5:$D$504,'حركات الموردين'!$B$5:$B$504,$B6)) | F6: =IF($B6="","",D6-E6) | G6: =IF($B6="","",IF(ROUND(F6,2)>0,"عليك له",IF(ROUND(F6,2)<0,"له عندك","مسدد")))
A7: 3 | D7: =IF($B7="","",SUMIFS('حركات الموردين'!$C$5:$C$504,'حركات الموردين'!$B$5:$B$504,$B7)) | E7: =IF($B7="","",SUMIFS('حركات الموردين'!$D$5:$D$504,'حركات الموردين'!$B$5:$B$504,$B7)) | F7: =IF($B7="","",D7-E7) | G7: =IF($B7="","",IF(ROUND(F7,2)>0,"عليك له",IF(ROUND(F7,2)<0,"له عندك","مسدد")))
A8: 4 | D8: =IF($B8="","",SUMIFS('حركات الموردين'!$C$5:$C$504,'حركات الموردين'!$B$5:$B$504,$B8)) | E8: =IF($B8="","",SUMIFS('حركات الموردين'!$D$5:$D$504,'حركات الموردين'!$B$5:$B$504,$B8)) | F8: =IF($B8="","",D8-E8) | G8: =IF($B8="","",IF(ROUND(F8,2)>0,"عليك له",IF(ROUND(F8,2)<0,"له عندك","مسدد")))
A9: 5 | D9: =IF($B9="","",SUMIFS('حركات الموردين'!$C$5:$C$504,'حركات الموردين'!$B$5:$B$504,$B9)) | E9: =IF($B9="","",SUMIFS('حركات الموردين'!$D$5:$D$504,'حركات الموردين'!$B$5:$B$504,$B9)) | F9: =IF($B9="","",D9-E9) | G9: =IF($B9="","",IF(ROUND(F9,2)>0,"عليك له",IF(ROUND(F9,2)<0,"له عندك","مسدد")))
A10: 6 | D10: =IF($B10="","",SUMIFS('حركات الموردين'!$C$5:$C$504,'حركات الموردين'!$B$5:$B$504,$B10)) | E10: =IF($B10="","",SUMIFS('حركات الموردين'!$D$5:$D$504,'حركات الموردين'!$B$5:$B$504,$B10)) | F10: =IF($B10="","",D10-E10) | G10: =IF($B10="","",IF(ROUND(F10,2)>0,"عليك له",IF(ROUND(F10,2)<0,"له عندك","مسدد")))
A11: 7 | D11: =IF($B11="","",SUMIFS('حركات الموردين'!$C$5:$C$504,'حركات الموردين'!$B$5:$B$504,$B11)) | E11: =IF($B11="","",SUMIFS('حركات الموردين'!$D$5:$D$504,'حركات الموردين'!$B$5:$B$504,$B11)) | F11: =IF($B11="","",D11-E11) | G11: =IF($B11="","",IF(ROUND(F11,2)>0,"عليك له",IF(ROUND(F11,2)<0,"له عندك","مسدد")))
A12: 8 | D12: =IF($B12="","",SUMIFS('حركات الموردين'!$C$5:$C$504,'حركات الموردين'!$B$5:$B$504,$B12)) | E12: =IF($B12="","",SUMIFS('حركات الموردين'!$D$5:$D$504,'حركات الموردين'!$B$5:$B$504,$B12)) | F12: =IF($B12="","",D12-E12) | G12: =IF($B12="","",IF(ROUND(F12,2)>0,"عليك له",IF(ROUND(F12,2)<0,"له عندك","مسدد")))
A13: 9 | D13: =IF($B13="","",SUMIFS('حركات الموردين'!$C$5:$C$504,'حركات الموردين'!$B$5:$B$504,$B13)) | E13: =IF($B13="","",SUMIFS('حركات الموردين'!$D$5:$D$504,'حركات الموردين'!$B$5:$B$504,$B13)) | F13: =IF($B13="","",D13-E13) | G13: =IF($B13="","",IF(ROUND(F13,2)>0,"عليك له",IF(ROUND(F13,2)<0,"له عندك","مسدد")))
A14: 10 | D14: =IF($B14="","",SUMIFS('حركات الموردين'!$C$5:$C$504,'حركات الموردين'!$B$5:$B$504,$B14)) | E14: =IF($B14="","",SUMIFS('حركات الموردين'!$D$5:$D$504,'حركات الموردين'!$B$5:$B$504,$B14)) | F14: =IF($B14="","",D14-E14) | G14: =IF($B14="","",IF(ROUND(F14,2)>0,"عليك له",IF(ROUND(F14,2)<0,"له عندك","مسدد")))
A15: 11 | D15: =IF($B15="","",SUMIFS('حركات الموردين'!$C$5:$C$504,'حركات الموردين'!$B$5:$B$504,$B15)) | E15: =IF($B15="","",SUMIFS('حركات الموردين'!$D$5:$D$504,'حركات الموردين'!$B$5:$B$504,$B15)) | F15: =IF($B15="","",D15-E15) | G15: =IF($B15="","",IF(ROUND(F15,2)>0,"عليك له",IF(ROUND(F15,2)<0,"له عندك","مسدد")))
A16: 12 | D16: =IF($B16="","",SUMIFS('حركات الموردين'!$C$5:$C$504,'حركات الموردين'!$B$5:$B$504,$B16)) | E16: =IF($B16="","",SUMIFS('حركات الموردين'!$D$5:$D$504,'حركات الموردين'!$B$5:$B$504,$B16)) | F16: =IF($B16="","",D16-E16) | G16: =IF($B16="","",IF(ROUND(F16,2)>0,"عليك له",IF(ROUND(F16,2)<0,"له عندك","مسدد")))
... A104: 100 | D104: =IF($B104="","",SUMIFS('حركات الموردين'!$C$5:$C$504,'حركات الموردين'!$B$5:$B$504,$B104)) | E104: =IF($B104="","",SUMIFS('حركات الموردين'!$D$5:$D$504,'حركات الموردين'!$B$5:$B$504,$B104)) | F104: =IF($B104="","",D104-E104) | G104: =IF($B104="","",IF(ROUND(F104,2)>0,"عليك له",IF(ROUND(F104,2)<0,"له عندك","مسدد")))
A106: من ميزانيتي – mizaniti.app

Sheet حركات الموردين
A1: حركات الموردين
A2: اشتريت بالآجل = بضاعة أخذتها ولم تدفع، دفعت = ما سددته للمورد.
A3: من ميزانيتي – mizaniti.app
A4: التاريخ | B4: الاسم | C4: اشتريت بالآجل | D4: دفعت | E4: ملاحظة | F4: الرصيد التراكمي | G4: ترتيب
F5: =IF($B5="","",SUMIFS(C$5:C5,$B$5:$B5,$B5)-SUMIFS(D$5:D5,$B$5:$B5,$B5))
F6: =IF($B6="","",SUMIFS(C$5:C6,$B$5:$B6,$B6)-SUMIFS(D$5:D6,$B$5:$B6,$B6))
F7: =IF($B7="","",SUMIFS(C$5:C7,$B$5:$B7,$B7)-SUMIFS(D$5:D7,$B$5:$B7,$B7))
F8: =IF($B8="","",SUMIFS(C$5:C8,$B$5:$B8,$B8)-SUMIFS(D$5:D8,$B$5:$B8,$B8))
F9: =IF($B9="","",SUMIFS(C$5:C9,$B$5:$B9,$B9)-SUMIFS(D$5:D9,$B$5:$B9,$B9))
F10: =IF($B10="","",SUMIFS(C$5:C10,$B$5:$B10,$B10)-SUMIFS(D$5:D10,$B$5:$B10,$B10))
F11: =IF($B11="","",SUMIFS(C$5:C11,$B$5:$B11,$B11)-SUMIFS(D$5:D11,$B$5:$B11,$B11))
F12: =IF($B12="","",SUMIFS(C$5:C12,$B$5:$B12,$B12)-SUMIFS(D$5:D12,$B$5:$B12,$B12))
F13: =IF($B13="","",SUMIFS(C$5:C13,$B$5:$B13,$B13)-SUMIFS(D$5:D13,$B$5:$B13,$B13))
F14: =IF($B14="","",SUMIFS(C$5:C14,$B$5:$B14,$B14)-SUMIFS(D$5:D14,$B$5:$B14,$B14))
F15: =IF($B15="","",SUMIFS(C$5:C15,$B$5:$B15,$B15)-SUMIFS(D$5:D15,$B$5:$B15,$B15))
F16: =IF($B16="","",SUMIFS(C$5:C16,$B$5:$B16,$B16)-SUMIFS(D$5:D16,$B$5:$B16,$B16))
... F504: =IF($B504="","",SUMIFS(C$5:C504,$B$5:$B504,$B504)-SUMIFS(D$5:D504,$B$5:$B504,$B504))
